BEGIN:VCALENDAR
VERSION:2.0
PRODID:-//hacksw/handcal//NONSGML v1.0//EN
BEGIN:VEVENT
SUMMARY:PIETROSELLA - OCANA
UID:00e5d007-3423-4505-8abc-d9ec1c9c9a34
DTSTART:20260428T183000Z
DTEND:20260428T203000Z
LOCATION:Localisation   
CATEGORIES:Sportif
STATUS:
URL;VALUE=URI:https://www.ocanafoot.com/evenements/2026/04/28/pietrosella-ocana-2435398
END:VEVENT
END:VCALENDAR
